BEGIN:VCALENDAR
VERSION:2.0
PRODID:-//Squarespace Inc/Squarespace 6//v6//EN
BEGIN:VEVENT
UID:57167833c6fc0870872e0091@squarespace.com
DTSTAMP:20170819T052654Z
DTSTART:20161214T073000Z
DTEND:20161216T160000Z
SUMMARY:Formation initiale en EMDR - Partie 1
END:VEVENT
END:VCALENDAR
