BEGIN:VCALENDAR
VERSION:2.0
PRODID:-//Squarespace Inc/Squarespace 6//v6//EN
BEGIN:VEVENT
UID:5716739e4c2f85027c8b902a@squarespace.com
DTSTAMP:20160701T052059Z
DTSTART:20160706T063000Z
DTEND:20160707T193000Z
SUMMARY:Formation EMDR Enfants & Adolescents - Niveau 1
END:VEVENT
END:VCALENDAR
