BEGIN:VCALENDAR
VERSION:2.0
PRODID:-//Squarespace Inc/Squarespace 6//v6//EN
BEGIN:VEVENT
UID:599a78aaff7c502eb4a3d63b@squarespace.com
DTSTAMP:20170914T045027Z
DTSTART:20171026T063000Z
DTEND:20171214T170000Z
SUMMARY:Initiation à l’hypnose dans les soins infirmiers
END:VEVENT
END:VCALENDAR
