BEGIN:VCALENDAR
VERSION:2.0
PRODID:-//Squarespace Inc/Squarespace 6//v6//EN
BEGIN:VEVENT
UID:599a8b25cd39c36f1e193348@squarespace.com
DTSTAMP:20171111T141004Z
DTSTART:20171129T073000Z
DTEND:20171201T160000Z
SUMMARY:Formation initiale en EMDR - Partie 2
END:VEVENT
END:VCALENDAR
