BEGIN:VCALENDAR
VERSION:2.0
PRODID:-//Squarespace Inc/Squarespace 6//v6//EN
BEGIN:VEVENT
UID:58c7855abf629ac501c09b06@squarespace.com
DTSTAMP:20170503T050908Z
DTSTART:20170530T173000Z
DTEND:20170530T183000Z
SUMMARY:La place du soignant face à la détresse émotionnelle du patient
GEO:49.639932;6.153922
LOCATION:Parc-Hôtel Alvisse\, 120 Route d'Echternach\, Luxembourg\, Distric
 t de Luxembourg\, 1453\, Luxembourg
END:VEVENT
END:VCALENDAR
