BEGIN:VCALENDAR
VERSION:2.0
PRODID:-//Squarespace Inc/Squarespace 6//v6//EN
BEGIN:VEVENT
UID:577024fd197aea0dc6670b2d@squarespace.com
DTSTAMP:20180720T175314Z
DTSTART:20170529T063000Z
DTEND:20170531T150000Z
SUMMARY:Formation initiale en EMDR - Partie 2
END:VEVENT
END:VCALENDAR
