BEGIN:VCALENDAR
VERSION:2.0
PRODID:-//Squarespace Inc/Squarespace 6//v6//EN
BEGIN:VEVENT
UID:5997d97a46c3c4fced13ca65@squarespace.com
DTSTAMP:20180122T092944Z
DTSTART:20180416T063000Z
DTEND:20180417T163000Z
SUMMARY:Formation en cohérence cardiaque
END:VEVENT
END:VCALENDAR
