BEGIN:VCALENDAR
VERSION:2.0
PRODID:-//Squarespace Inc/Squarespace 6//v6//EN
BEGIN:VEVENT
UID:59992ecabe6594fce22ed6f9@squarespace.com
DTSTAMP:20171113T060000Z
DTSTART:20180503T070000Z
DTEND:20180504T153000Z
SUMMARY:Événements traumatiques : prise en charge de groupe - Interventions 
 EMDR de groupe en immédiat et post-immédiat
END:VEVENT
END:VCALENDAR
