BEGIN:VCALENDAR
VERSION:2.0
PRODID:-//Squarespace Inc/Squarespace 6//v6//EN
BEGIN:VEVENT
UID:5b83b9f803ce64a5a9b88b92@squarespace.com
DTSTAMP:20190403T174655Z
DTSTART:20190605T063000Z
DTEND:20190607T150000Z
SUMMARY:De la prise en compte à la prise en charge des traumatismes transgé
 nérationnels en EMDR
END:VEVENT
END:VCALENDAR
