BEGIN:VCALENDAR
VERSION:2.0
PRODID:-//Squarespace Inc/Squarespace 6//v6//EN
BEGIN:VEVENT
UID:5d2eed20c840d800019303ef@squarespace.com
DTSTAMP:20200526T180531Z
DTSTART:20200625T063000Z
DTEND:20200626T153000Z
SUMMARY:Formation EMDR enfants &amp\; adolescents - Niveau 2 via ZOOM
END:VEVENT
END:VCALENDAR
