BEGIN:VCALENDAR
VERSION:2.0
PRODID:-//Squarespace Inc/Squarespace 6//v6//EN
BEGIN:VEVENT
UID:5b45c71d88251bfe9f3c46fa@squarespace.com
DTSTAMP:20200407T180050Z
DTSTART:20200507T070000Z
DTEND:20200507T153000Z
SUMMARY:Kit de survie: Cognitions et tissages cognitifs via Zoom
END:VEVENT
END:VCALENDAR
