BEGIN:VCALENDAR
VERSION:2.0
PRODID:-//Squarespace Inc/Squarespace 6//v6//EN
BEGIN:VEVENT
UID:5db6bba8c494f4106d6f3d0f@squarespace.com
DTSTAMP:20200407T180205Z
DTSTART:20200508T070000Z
DTEND:20200508T153000Z
SUMMARY: Kit de survie B: Patterns et plans de ciblages via Zoom
END:VEVENT
END:VCALENDAR
